BEGIN:VCALENDAR
VERSION:2.0
PRODID:-//UW Neurobiology &amp; Biophysics - ECPv6.15.18//NONSGML v1.0//EN
CALSCALE:GREGORIAN
METHOD:PUBLISH
X-ORIGINAL-URL:https://nbio.uw.edu
X-WR-CALDESC:Events for UW Neurobiology &amp; Biophysics
REFRESH-INTERVAL;VALUE=DURATION:PT1H
X-Robots-Tag:noindex
X-PUBLISHED-TTL:PT1H
BEGIN:VTIMEZONE
TZID:America/Los_Angeles
BEGIN:DAYLIGHT
TZOFFSETFROM:-0800
TZOFFSETTO:-0700
TZNAME:PDT
DTSTART:20250309T100000
END:DAYLIGHT
BEGIN:STANDARD
TZOFFSETFROM:-0700
TZOFFSETTO:-0800
TZNAME:PST
DTSTART:20251102T090000
END:STANDARD
BEGIN:DAYLIGHT
TZOFFSETFROM:-0800
TZOFFSETTO:-0700
TZNAME:PDT
DTSTART:20260308T100000
END:DAYLIGHT
BEGIN:STANDARD
TZOFFSETFROM:-0700
TZOFFSETTO:-0800
TZNAME:PST
DTSTART:20261101T090000
END:STANDARD
BEGIN:DAYLIGHT
TZOFFSETFROM:-0800
TZOFFSETTO:-0700
TZNAME:PDT
DTSTART:20270314T100000
END:DAYLIGHT
BEGIN:STANDARD
TZOFFSETFROM:-0700
TZOFFSETTO:-0800
TZNAME:PST
DTSTART:20271107T090000
END:STANDARD
END:VTIMEZONE
BEGIN:VEVENT
DTSTART;TZID=America/Los_Angeles:20260115T093000
DTEND;TZID=America/Los_Angeles:20260115T103000
DTSTAMP:20260425T125316
CREATED:20250909T202623Z
LAST-MODIFIED:20260403T164236Z
UID:10000090-1768469400-1768473000@nbio.uw.edu
SUMMARY:NBIO Presents:  Karen Zito\, PhD (University of California Davis)
DESCRIPTION:Ion flux-independent NMDAR signaling in bidirectional synaptic plasticity and disease\nNMDA receptors play vital roles in a broad array of essential brain functions\, from synaptic transmission and plasticity to learning and memory. Historically\, the fundamental roles of NMDARs were attributed to their specialized properties of ion flux. More recently\, it has become clear that NMDARs can drive synaptic plasticity in an ion flux-independent manner. I will present recent data that elucidates ion flux-independent NMDAR signaling mechanisms in synaptic plasticity and their physiological consequences in health and disease. \n Health Sciences G328 and Zoom
URL:https://nbio.uw.edu/event/nbio-presents-karen-zito-phd-university-of-california-davis/
LOCATION:Health Sciences G-328
CATEGORIES:Seminar
ATTACH;FMTTYPE=image/jpeg:https://nbio.uw.edu/wp-content/uploads/2025/07/20220914_september-campus_26-e1760646923422.jpg
ORGANIZER;CN="UW NBIO":MAILTO:nbio@uw.edu
END:VEVENT
BEGIN:VEVENT
DTSTART;TZID=America/Los_Angeles:20260122T093000
DTEND;TZID=America/Los_Angeles:20260122T103000
DTSTAMP:20260425T125316
CREATED:20251125T234105Z
LAST-MODIFIED:20260403T164310Z
UID:10000091-1769074200-1769077800@nbio.uw.edu
SUMMARY:NBIO Presents: Jhimmy Talbot (Fred Hutchinson Cancer Research Center)
DESCRIPTION:Neural regulation of intestinal immune and absorptive functions\nThe intestinal mucosa serves both as a conduit for the uptake of food-derived nutrients and microbiome-derived metabolites\, and as a barrier that prevents tissue invasion by microorganisms. How the intestine coordinates physiological responses to food consumption to optimize nutrient uptake while maintaining barrier functions remains unclear. My lab’s goal is to develop a comprehensive understanding of how the gut balances these competing metabolic and immune needs. Using genetically modified mouse models we have identified neuronal circuits activated by diet and microbes that coordinate intestinal immunity and host nutrition. Our studies may reveal how changes in diet or the microbiota lead to metabolic dysfunctions and provide insights into how pathogens hijack neurons to facilitate infection. \n Health Science G 328 and on Zoom \n 
URL:https://nbio.uw.edu/event/nbio-presents-jhimmy-talbot-fred-hutchinson-cancer-research-center/
LOCATION:Health Sciences G-328
CATEGORIES:Seminar
ATTACH;FMTTYPE=image/jpeg:https://nbio.uw.edu/wp-content/uploads/2025/09/jhimmy-talbott.jpeg
ORGANIZER;CN="UW NBIO":MAILTO:nbio@uw.edu
END:VEVENT
BEGIN:VEVENT
DTSTART;TZID=America/Los_Angeles:20260128T123000
DTEND;TZID=America/Los_Angeles:20260128T133000
DTSTAMP:20260425T125316
CREATED:20260127T191435Z
LAST-MODIFIED:20260127T191512Z
UID:10000127-1769603400-1769607000@nbio.uw.edu
SUMMARY:CNC Presents: John Widloski\, PhD (Allen Institute for Neural Dynamics)
DESCRIPTION:“Fluid Memory: Explorations in hippocampal replay”
URL:https://nbio.uw.edu/event/cnc-presents-john-widloski-phd-allen-institute-for-neural-dynamics/
LOCATION:South Campus Center 354\, 1601 NE Columbia Rd\, Seattle\, WA\, 98195\, United States
ATTACH;FMTTYPE=image/png:https://nbio.uw.edu/wp-content/uploads/2026/01/Widloski-Poster-e1769541306589.png
ORGANIZER;CN="UW Computational Neuroscience Center (CNC)":MAILTO:compneuro@u.washington.edu
END:VEVENT
END:VCALENDAR