BEGIN:VCALENDAR
VERSION:2.0
PRODID:-//UW Neurobiology &amp; Biophysics - ECPv6.15.18//NONSGML v1.0//EN
CALSCALE:GREGORIAN
METHOD:PUBLISH
X-WR-CALNAME:UW Neurobiology &amp; Biophysics
X-ORIGINAL-URL:https://nbio.uw.edu
X-WR-CALDESC:Events for UW Neurobiology &amp; Biophysics
REFRESH-INTERVAL;VALUE=DURATION:PT1H
X-Robots-Tag:noindex
X-PUBLISHED-TTL:PT1H
BEGIN:VTIMEZONE
TZID:America/Los_Angeles
BEGIN:DAYLIGHT
TZOFFSETFROM:-0800
TZOFFSETTO:-0700
TZNAME:PDT
DTSTART:20240310T100000
END:DAYLIGHT
BEGIN:STANDARD
TZOFFSETFROM:-0700
TZOFFSETTO:-0800
TZNAME:PST
DTSTART:20241103T090000
END:STANDARD
BEGIN:DAYLIGHT
TZOFFSETFROM:-0800
TZOFFSETTO:-0700
TZNAME:PDT
DTSTART:20250309T100000
END:DAYLIGHT
BEGIN:STANDARD
TZOFFSETFROM:-0700
TZOFFSETTO:-0800
TZNAME:PST
DTSTART:20251102T090000
END:STANDARD
BEGIN:DAYLIGHT
TZOFFSETFROM:-0800
TZOFFSETTO:-0700
TZNAME:PDT
DTSTART:20260308T100000
END:DAYLIGHT
BEGIN:STANDARD
TZOFFSETFROM:-0700
TZOFFSETTO:-0800
TZNAME:PST
DTSTART:20261101T090000
END:STANDARD
END:VTIMEZONE
BEGIN:VEVENT
DTSTART;TZID=America/Los_Angeles:20250930T093000
DTEND;TZID=America/Los_Angeles:20250930T103000
DTSTAMP:20260423T081003
CREATED:20250902T203420Z
LAST-MODIFIED:20260401T171513Z
UID:10000081-1759224600-1759228200@nbio.uw.edu
SUMMARY:NBIO Presents: Pavan Ramdya\, PhD (Ecole Polytechnique Federale de Lausanne)
DESCRIPTION:“How flies learn to engage with objects and each other”\nA central goal shared by neuroscience and robotics is to understand how systems can navigate and act autonomously in complex environments. While extensive research has revealed how the visual system segments natural scenes into distinct components—insights that have inspired advances in computer vision and robotics—the next crucial challenge remains: learning the properties of these objects and responding appropriately. In this talk\, I will present our work using the fruit fly Drosophila melanogaster to investigate how the brain learns about objects and other animals in its environment\, and how it uses that information to guide behavior. By integrating quantitative behavioral analysis\, genetic manipulation\, connectomics\, and neural recordings\, we aim to uncover the neural mechanisms that enable flexible\, adaptive interactions with the world. \n Health Sciences G328 and Zoom
URL:https://nbio.uw.edu/event/nbio-presents-pavan-ramdya-ecole-polytechnique-federale-de-lausanne-2/
LOCATION:Magnuson Health Sciences Center\, University of Washington\, NE Pacific Street\, Seattle\, WA\, 98195\, United States
CATEGORIES:Seminar
ATTACH;FMTTYPE=image/jpeg:https://nbio.uw.edu/wp-content/uploads/2025/09/pavan-e1756848684335.jpg
ORGANIZER;CN="UW NBIO":MAILTO:nbio@uw.edu
END:VEVENT
END:VCALENDAR