BEGIN:VCALENDAR
VERSION:2.0
PRODID:-//UW Neurobiology &amp; Biophysics - ECPv6.15.18//NONSGML v1.0//EN
CALSCALE:GREGORIAN
METHOD:PUBLISH
X-WR-CALNAME:UW Neurobiology &amp; Biophysics
X-ORIGINAL-URL:https://nbio.uw.edu
X-WR-CALDESC:Events for UW Neurobiology &amp; Biophysics
REFRESH-INTERVAL;VALUE=DURATION:PT1H
X-Robots-Tag:noindex
X-PUBLISHED-TTL:PT1H
BEGIN:VTIMEZONE
TZID:America/Los_Angeles
BEGIN:DAYLIGHT
TZOFFSETFROM:-0800
TZOFFSETTO:-0700
TZNAME:PDT
DTSTART:20240310T100000
END:DAYLIGHT
BEGIN:STANDARD
TZOFFSETFROM:-0700
TZOFFSETTO:-0800
TZNAME:PST
DTSTART:20241103T090000
END:STANDARD
BEGIN:DAYLIGHT
TZOFFSETFROM:-0800
TZOFFSETTO:-0700
TZNAME:PDT
DTSTART:20250309T100000
END:DAYLIGHT
BEGIN:STANDARD
TZOFFSETFROM:-0700
TZOFFSETTO:-0800
TZNAME:PST
DTSTART:20251102T090000
END:STANDARD
BEGIN:DAYLIGHT
TZOFFSETFROM:-0800
TZOFFSETTO:-0700
TZNAME:PDT
DTSTART:20260308T100000
END:DAYLIGHT
BEGIN:STANDARD
TZOFFSETFROM:-0700
TZOFFSETTO:-0800
TZNAME:PST
DTSTART:20261101T090000
END:STANDARD
END:VTIMEZONE
BEGIN:VEVENT
DTSTART;TZID=America/Los_Angeles:20250926T140000
DTEND;TZID=America/Los_Angeles:20250926T150000
DTSTAMP:20260422T075454
CREATED:20250923T173102Z
LAST-MODIFIED:20250923T173419Z
UID:10000112-1758895200-1758898800@nbio.uw.edu
SUMMARY:UW Biology Presents a Special Seminar: Communicating Science in Urgent Times featuring Dr. Diego Golombek\, PhD (Universidad de San Andres)
DESCRIPTION:Communicating Science in Urgent Times\nDr. Golombek is a neuroscientist and arguably the most important science outreach voice in the Spanish-speaking world.\nPhD in Biology (Universidad de Buenos Aires). Plenary Professor (Universidad de San Andrés)\, Superior Investigator at the National Research Council. Director\, Laboratory for the Interdisciplinary Study of Time. He has published over 190 scientific papers (h-index 42). Besides chronobiology\, he has been interested in science communication/outreach\, publishing about 20 popular science books\, hosting TV shows and creating science exhibitions. Past president of the Argentinean Society for Neuroscience\, the National Program for Science Popularization\, the National Institute for Technological Education and the National Science Center. He received\, among others\, the National Science Prize “Bernardo Houssay”\, the Guggenheim fellowship\, the Konex Prize\, the IgNobel award\, the “Capital City” (Mexico)\, the UNESCO Kalinga Prize (the most important international award in science communication) and the Order of Academic Palms (France).\n\n\n Life Sciences Building 201
URL:https://nbio.uw.edu/event/uw-biology-presents-dr-diego-golombek/
LOCATION:Life Sciences Building\, 3747 W Stevens Wy NE\, Seattle\, WA\, 98195\, United States
CATEGORIES:Seminar
ATTACH;FMTTYPE=image/jpeg:https://nbio.uw.edu/wp-content/uploads/2025/09/Golombek.jpg
END:VEVENT
END:VCALENDAR