BEGIN:VCALENDAR
VERSION:2.0
PRODID:-//UW Neurobiology &amp; Biophysics - ECPv6.15.18//NONSGML v1.0//EN
CALSCALE:GREGORIAN
METHOD:PUBLISH
X-WR-CALNAME:UW Neurobiology &amp; Biophysics
X-ORIGINAL-URL:https://nbio.uw.edu
X-WR-CALDESC:Events for UW Neurobiology &amp; Biophysics
REFRESH-INTERVAL;VALUE=DURATION:PT1H
X-Robots-Tag:noindex
X-PUBLISHED-TTL:PT1H
BEGIN:VTIMEZONE
TZID:America/Los_Angeles
BEGIN:DAYLIGHT
TZOFFSETFROM:-0800
TZOFFSETTO:-0700
TZNAME:PDT
DTSTART:20240310T100000
END:DAYLIGHT
BEGIN:STANDARD
TZOFFSETFROM:-0700
TZOFFSETTO:-0800
TZNAME:PST
DTSTART:20241103T090000
END:STANDARD
BEGIN:DAYLIGHT
TZOFFSETFROM:-0800
TZOFFSETTO:-0700
TZNAME:PDT
DTSTART:20250309T100000
END:DAYLIGHT
BEGIN:STANDARD
TZOFFSETFROM:-0700
TZOFFSETTO:-0800
TZNAME:PST
DTSTART:20251102T090000
END:STANDARD
BEGIN:DAYLIGHT
TZOFFSETFROM:-0800
TZOFFSETTO:-0700
TZNAME:PDT
DTSTART:20260308T100000
END:DAYLIGHT
BEGIN:STANDARD
TZOFFSETFROM:-0700
TZOFFSETTO:-0800
TZNAME:PST
DTSTART:20261101T090000
END:STANDARD
END:VTIMEZONE
BEGIN:VEVENT
DTSTART;TZID=America/Los_Angeles:20250925T093000
DTEND;TZID=America/Los_Angeles:20250925T103000
DTSTAMP:20260422T075504
CREATED:20250909T204038Z
LAST-MODIFIED:20260401T171353Z
UID:10000109-1758792600-1758796200@nbio.uw.edu
SUMMARY:NBIO Presents: Tenzin Ngodup\, PhD (Virginia Merrill Bloedel Hearing Research Center\, UW)
DESCRIPTION:“Unraveling the Cellular and Synaptic Architecture of the Cochlear Nucleus“\nUnderstanding how the brain processes sound starts with identifying its basic cellular components. Using modern profiling methods\, we have uncovered a rich and previously unappreciated diversity of neuronal types in the lower auditory system. These findings provide a new framework for understanding the synaptic signaling\, neuromodulation\, and circuit organization in the auditory brainstem. \n Health Sciences G328 and Zoom
URL:https://nbio.uw.edu/event/nbio-presents-tenzin-ngodup-phd-uw-otolaryngology-head-neck-surgery/
LOCATION:Magnuson Health Sciences Center\, University of Washington\, NE Pacific Street\, Seattle\, WA\, 98195\, United States
CATEGORIES:Seminar
ATTACH;FMTTYPE=image/jpeg:https://nbio.uw.edu/wp-content/uploads/2025/09/Photo-scaled-e1757704812734.jpg
ORGANIZER;CN="UW NBIO":MAILTO:nbio@uw.edu
END:VEVENT
END:VCALENDAR